BEGIN:VCALENDAR
VERSION:2.0
PRODID:-//My Calendar//http://www.joedolson.com//v3.2.17//EN
METHOD:PUBLISH
CALSCALE:GREGORIAN
X-WR-CALNAME:宮城県ソフトボール協会
X-PUBLISHED-TTL:PT24H
REFRESH-INTERVAL;VALUE=DURATION:PT24H
X-WR-CALDESC:宮城県ソフトボール協会のイベント
BEGIN:VEVENT
UID:70-65
LOCATION:
SUMMARY:57高校選抜
DTSTAMP:20220423T000000
ORGANIZER;CN=miyagimsof:MAILTO:ojima72@hotmail.com
DTSTART;TZID=Asia/Tokyo:20220423T000000
DTEND;TZID=Asia/Tokyo:20220425T000000
URL;VALUE=URI:http://www.miyagi-softball.jp/calendar/
DESCRIPTION: 
CATEGORIES:県大会
X-FUNAMBOL-ALLDAY: 1
X-MICROSOFT-CDO-ALLDAYEVENT: TRUE

END:VEVENT
BEGIN:VEVENT
UID:69-64
LOCATION:
SUMMARY:30東北私学高校女子選抜
DTSTAMP:20221105T000000
ORGANIZER;CN=miyagimsof:MAILTO:ojima72@hotmail.com
DTSTART;TZID=Asia/Tokyo:20221105T000000
DTEND;TZID=Asia/Tokyo:20221107T000000
URL;VALUE=URI:http://www.miyagi-softball.jp/calendar/
DESCRIPTION: 
CATEGORIES:東北大会
X-FUNAMBOL-ALLDAY: 1
X-MICROSOFT-CDO-ALLDAYEVENT: TRUE

END:VEVENT
BEGIN:VEVENT
UID:68-63
LOCATION:
SUMMARY:74東北総合女子選手権
DTSTAMP:20220716T000000
ORGANIZER;CN=miyagimsof:MAILTO:ojima72@hotmail.com
DTSTART;TZID=Asia/Tokyo:20220716T000000
DTEND;TZID=Asia/Tokyo:20220718T000000
URL;VALUE=URI:http://www.miyagi-softball.jp/calendar/
DESCRIPTION: 
CATEGORIES:東北大会
X-FUNAMBOL-ALLDAY: 1
X-MICROSOFT-CDO-ALLDAYEVENT: TRUE

END:VEVENT
BEGIN:VEVENT
UID:56-51
LOCATION:
SUMMARY:36県総合選手権高校の部
DTSTAMP:20220716T000000
ORGANIZER;CN=miyagimsof:MAILTO:ojima72@hotmail.com
DTSTART;TZID=Asia/Tokyo:20220716T000000
DTEND;TZID=Asia/Tokyo:20220719T000000
URL;VALUE=URI:http://www.miyagi-softball.jp/calendar/
DESCRIPTION: 
CATEGORIES:県大会
X-FUNAMBOL-ALLDAY: 1
X-MICROSOFT-CDO-ALLDAYEVENT: TRUE

END:VEVENT
BEGIN:VEVENT
UID:67-62
LOCATION:
SUMMARY:36県総合選手権
DTSTAMP:20221029T000000
ORGANIZER;CN=miyagimsof:MAILTO:ojima72@hotmail.com
DTSTART;TZID=Asia/Tokyo:20221029T000000
DTEND;TZID=Asia/Tokyo:20221031T000000
URL;VALUE=URI:http://www.miyagi-softball.jp/calendar/
DESCRIPTION: 
CATEGORIES:県大会
X-FUNAMBOL-ALLDAY: 1
X-MICROSOFT-CDO-ALLDAYEVENT: TRUE

END:VEVENT
BEGIN:VEVENT
UID:66-61
LOCATION:
SUMMARY:40中学新人
DTSTAMP:20221022T000000
ORGANIZER;CN=miyagimsof:MAILTO:ojima72@hotmail.com
DTSTART;TZID=Asia/Tokyo:20221022T000000
DTEND;TZID=Asia/Tokyo:20221024T000000
URL;VALUE=URI:http://www.miyagi-softball.jp/calendar/
DESCRIPTION: 
CATEGORIES:県大会
X-FUNAMBOL-ALLDAY: 1
X-MICROSOFT-CDO-ALLDAYEVENT: TRUE

END:VEVENT
BEGIN:VEVENT
UID:65-60
LOCATION:
SUMMARY:70高校新人
DTSTAMP:20221015T000000
ORGANIZER;CN=miyagimsof:MAILTO:ojima72@hotmail.com
DTSTART;TZID=Asia/Tokyo:20221015T000000
DTEND;TZID=Asia/Tokyo:20221018T000000
URL;VALUE=URI:http://www.miyagi-softball.jp/calendar/
DESCRIPTION: 
CATEGORIES:県大会
X-FUNAMBOL-ALLDAY: 1
X-MICROSOFT-CDO-ALLDAYEVENT: TRUE

END:VEVENT
BEGIN:VEVENT
UID:64-59
LOCATION:
SUMMARY:5ミズノソフトボールフェスティバルinあゆの里
DTSTAMP:20220910T000000
ORGANIZER;CN=miyagimsof:MAILTO:ojima72@hotmail.com
DTSTART;TZID=Asia/Tokyo:20220910T000000
DTEND;TZID=Asia/Tokyo:20220912T000000
URL;VALUE=URI:http://www.miyagi-softball.jp/calendar/
DESCRIPTION: 
CATEGORIES:県大会
X-FUNAMBOL-ALLDAY: 1
X-MICROSOFT-CDO-ALLDAYEVENT: TRUE

END:VEVENT
BEGIN:VEVENT
UID:63-58
LOCATION:
SUMMARY:25エルダー宮城県大会
DTSTAMP:20220903T000000
ORGANIZER;CN=miyagimsof:MAILTO:ojima72@hotmail.com
DTSTART;TZID=Asia/Tokyo:20220903T000000
DTEND;TZID=Asia/Tokyo:20220905T000000
URL;VALUE=URI:http://www.miyagi-softball.jp/calendar/
DESCRIPTION: 
CATEGORIES:県大会
X-FUNAMBOL-ALLDAY: 1
X-MICROSOFT-CDO-ALLDAYEVENT: TRUE

END:VEVENT
BEGIN:VEVENT
UID:62-57
LOCATION:
SUMMARY:5ナガセケンコー杯
DTSTAMP:20220827T000000
ORGANIZER;CN=miyagimsof:MAILTO:ojima72@hotmail.com
DTSTART;TZID=Asia/Tokyo:20220827T000000
DTEND;TZID=Asia/Tokyo:20220829T000000
URL;VALUE=URI:http://www.miyagi-softball.jp/calendar/
DESCRIPTION: 
CATEGORIES:県大会
X-FUNAMBOL-ALLDAY: 1
X-MICROSOFT-CDO-ALLDAYEVENT: TRUE

END:VEVENT
BEGIN:VEVENT
UID:61-56
LOCATION:
SUMMARY:32県小学生男女兼21内田杯東北小学生県予選
DTSTAMP:20220807T000000
ORGANIZER;CN=miyagimsof:MAILTO:ojima72@hotmail.com
DTSTART;TZID=Asia/Tokyo:20220807T000000
DTEND;TZID=Asia/Tokyo:20220808T000000
URL;VALUE=URI:http://www.miyagi-softball.jp/calendar/
DESCRIPTION: 
CATEGORIES:県大会
X-FUNAMBOL-ALLDAY: 1
X-MICROSOFT-CDO-ALLDAYEVENT: TRUE

END:VEVENT
BEGIN:VEVENT
UID:60-55
LOCATION:
SUMMARY:32県小学生男女兼21内田杯東北小学生県予選
DTSTAMP:20220731T000000
ORGANIZER;CN=miyagimsof:MAILTO:ojima72@hotmail.com
DTSTART;TZID=Asia/Tokyo:20220731T000000
DTEND;TZID=Asia/Tokyo:20220801T000000
URL;VALUE=URI:http://www.miyagi-softball.jp/calendar/
DESCRIPTION: 
CATEGORIES:県大会
X-FUNAMBOL-ALLDAY: 1
X-MICROSOFT-CDO-ALLDAYEVENT: TRUE

END:VEVENT
BEGIN:VEVENT
UID:59-54
LOCATION:
SUMMARY:マスターズ2022女子
DTSTAMP:20220723T000000
ORGANIZER;CN=miyagimsof:MAILTO:ojima72@hotmail.com
DTSTART;TZID=Asia/Tokyo:20220723T000000
DTEND;TZID=Asia/Tokyo:20220725T000000
URL;VALUE=URI:http://www.miyagi-softball.jp/calendar/
DESCRIPTION: 
CATEGORIES:県大会
X-FUNAMBOL-ALLDAY: 1
X-MICROSOFT-CDO-ALLDAYEVENT: TRUE

END:VEVENT
BEGIN:VEVENT
UID:58-53
LOCATION:
SUMMARY:37壮年兼マスターズ2022男子
DTSTAMP:20220723T000000
ORGANIZER;CN=miyagimsof:MAILTO:ojima72@hotmail.com
DTSTART;TZID=Asia/Tokyo:20220723T000000
DTEND;TZID=Asia/Tokyo:20220725T000000
URL;VALUE=URI:http://www.miyagi-softball.jp/calendar/
DESCRIPTION: 
CATEGORIES:県大会
X-FUNAMBOL-ALLDAY: 1
X-MICROSOFT-CDO-ALLDAYEVENT: TRUE

END:VEVENT
BEGIN:VEVENT
UID:57-52
LOCATION:
SUMMARY:71中学校総体
DTSTAMP:20220723T000000
ORGANIZER;CN=miyagimsof:MAILTO:ojima72@hotmail.com
DTSTART;TZID=Asia/Tokyo:20220723T000000
DTEND;TZID=Asia/Tokyo:20220725T000000
URL;VALUE=URI:http://www.miyagi-softball.jp/calendar/
DESCRIPTION: 
CATEGORIES:県大会
X-FUNAMBOL-ALLDAY: 1
X-MICROSOFT-CDO-ALLDAYEVENT: TRUE

END:VEVENT
BEGIN:VEVENT
UID:55-50
LOCATION:
SUMMARY:27レディース
DTSTAMP:20220702T000000
ORGANIZER;CN=miyagimsof:MAILTO:ojima72@hotmail.com
DTSTART;TZID=Asia/Tokyo:20220702T000000
DTEND;TZID=Asia/Tokyo:20220704T000000
URL;VALUE=URI:http://www.miyagi-softball.jp/calendar/
DESCRIPTION: 
CATEGORIES:県大会
X-FUNAMBOL-ALLDAY: 1
X-MICROSOFT-CDO-ALLDAYEVENT: TRUE

END:VEVENT
BEGIN:VEVENT
UID:54-49
LOCATION:
SUMMARY:31実年
DTSTAMP:20220625T000000
ORGANIZER;CN=miyagimsof:MAILTO:ojima72@hotmail.com
DTSTART;TZID=Asia/Tokyo:20220625T000000
DTEND;TZID=Asia/Tokyo:20220627T000000
URL;VALUE=URI:http://www.miyagi-softball.jp/calendar/
DESCRIPTION: 
CATEGORIES:県大会
X-FUNAMBOL-ALLDAY: 1
X-MICROSOFT-CDO-ALLDAYEVENT: TRUE

END:VEVENT
BEGIN:VEVENT
UID:53-48
LOCATION:
SUMMARY:74総合女子選手権
DTSTAMP:20220625T000000
ORGANIZER;CN=miyagimsof:MAILTO:ojima72@hotmail.com
DTSTART;TZID=Asia/Tokyo:20220625T000000
DTEND;TZID=Asia/Tokyo:20220627T000000
URL;VALUE=URI:http://www.miyagi-softball.jp/calendar/
DESCRIPTION: 
CATEGORIES:県大会
X-FUNAMBOL-ALLDAY: 1
X-MICROSOFT-CDO-ALLDAYEVENT: TRUE

END:VEVENT
BEGIN:VEVENT
UID:52-47
LOCATION:
SUMMARY:19一般男子
DTSTAMP:20220618T000000
ORGANIZER;CN=miyagimsof:MAILTO:ojima72@hotmail.com
DTSTART;TZID=Asia/Tokyo:20220618T000000
DTEND;TZID=Asia/Tokyo:20220620T000000
URL;VALUE=URI:http://www.miyagi-softball.jp/calendar/
DESCRIPTION: 
CATEGORIES:県大会
X-FUNAMBOL-ALLDAY: 1
X-MICROSOFT-CDO-ALLDAYEVENT: TRUE

END:VEVENT
BEGIN:VEVENT
UID:51-46
LOCATION:
SUMMARY:8ハイシニア
DTSTAMP:20220611T000000
ORGANIZER;CN=miyagimsof:MAILTO:ojima72@hotmail.com
DTSTART;TZID=Asia/Tokyo:20220611T000000
DTEND;TZID=Asia/Tokyo:20220613T000000
URL;VALUE=URI:http://www.miyagi-softball.jp/calendar/
DESCRIPTION: 
CATEGORIES:県大会
X-FUNAMBOL-ALLDAY: 1
X-MICROSOFT-CDO-ALLDAYEVENT: TRUE

END:VEVENT
BEGIN:VEVENT
UID:50-45
LOCATION:
SUMMARY:21エルデスト
DTSTAMP:20220611T000000
ORGANIZER;CN=miyagimsof:MAILTO:ojima72@hotmail.com
DTSTART;TZID=Asia/Tokyo:20220611T000000
DTEND;TZID=Asia/Tokyo:20220613T000000
URL;VALUE=URI:http://www.miyagi-softball.jp/calendar/
DESCRIPTION: 
CATEGORIES:県大会
X-FUNAMBOL-ALLDAY: 1
X-MICROSOFT-CDO-ALLDAYEVENT: TRUE

END:VEVENT
BEGIN:VEVENT
UID:49-44
LOCATION:
SUMMARY:16中学生大会
DTSTAMP:20220611T000000
ORGANIZER;CN=miyagimsof:MAILTO:ojima72@hotmail.com
DTSTART;TZID=Asia/Tokyo:20220611T000000
DTEND;TZID=Asia/Tokyo:20220613T000000
URL;VALUE=URI:http://www.miyagi-softball.jp/calendar/
DESCRIPTION: 
CATEGORIES:県大会
X-FUNAMBOL-ALLDAY: 1
X-MICROSOFT-CDO-ALLDAYEVENT: TRUE

END:VEVENT
BEGIN:VEVENT
UID:48-43
LOCATION:
SUMMARY:68総合男子選手権
DTSTAMP:20220611T000000
ORGANIZER;CN=miyagimsof:MAILTO:ojima72@hotmail.com
DTSTART;TZID=Asia/Tokyo:20220611T000000
DTEND;TZID=Asia/Tokyo:20220613T000000
URL;VALUE=URI:http://www.miyagi-softball.jp/calendar/
DESCRIPTION: 
CATEGORIES:県大会
X-FUNAMBOL-ALLDAY: 1
X-MICROSOFT-CDO-ALLDAYEVENT: TRUE

END:VEVENT
BEGIN:VEVENT
UID:47-42
LOCATION:
SUMMARY:71高校総体
DTSTAMP:20220604T000000
ORGANIZER;CN=miyagimsof:MAILTO:ojima72@hotmail.com
DTSTART;TZID=Asia/Tokyo:20220604T000000
DTEND;TZID=Asia/Tokyo:20220607T000000
URL;VALUE=URI:http://www.miyagi-softball.jp/calendar/
DESCRIPTION:R40604 
CATEGORIES:県大会
X-FUNAMBOL-ALLDAY: 1
X-MICROSOFT-CDO-ALLDAYEVENT: TRUE

END:VEVENT
BEGIN:VEVENT
UID:46-41
LOCATION:
SUMMARY:36小学生
DTSTAMP:20220529T000000
ORGANIZER;CN=miyagimsof:MAILTO:ojima72@hotmail.com
DTSTART;TZID=Asia/Tokyo:20220529T000000
DTEND;TZID=Asia/Tokyo:20220530T000000
URL;VALUE=URI:http://www.miyagi-softball.jp/calendar/
DESCRIPTION: 
CATEGORIES:県大会
X-FUNAMBOL-ALLDAY: 1
X-MICROSOFT-CDO-ALLDAYEVENT: TRUE

END:VEVENT
BEGIN:VEVENT
UID:45-40
LOCATION:
SUMMARY:36小学生
DTSTAMP:20220522T000000
ORGANIZER;CN=miyagimsof:MAILTO:ojima72@hotmail.com
DTSTART;TZID=Asia/Tokyo:20220522T000000
DTEND;TZID=Asia/Tokyo:20220523T000000
URL;VALUE=URI:http://www.miyagi-softball.jp/calendar/
DESCRIPTION: 
CATEGORIES:県大会
X-FUNAMBOL-ALLDAY: 1
X-MICROSOFT-CDO-ALLDAYEVENT: TRUE

END:VEVENT
BEGIN:VEVENT
UID:44-39
LOCATION:
SUMMARY:36シニア
DTSTAMP:20220521T000000
ORGANIZER;CN=miyagimsof:MAILTO:ojima72@hotmail.com
DTSTART;TZID=Asia/Tokyo:20220521T000000
DTEND;TZID=Asia/Tokyo:20220523T000000
URL;VALUE=URI:http://www.miyagi-softball.jp/calendar/
DESCRIPTION: 
CATEGORIES:県大会
X-FUNAMBOL-ALLDAY: 1
X-MICROSOFT-CDO-ALLDAYEVENT: TRUE

END:VEVENT
BEGIN:VEVENT
UID:43-38
LOCATION:
SUMMARY:県高校総体
DTSTAMP:20200723T000000
ORGANIZER;CN=miyagimsof:MAILTO:ojima72@hotmail.com
DTSTART;TZID=Asia/Tokyo:20200723T000000
DTEND;TZID=Asia/Tokyo:20200724T000000
URL;VALUE=URI:http://www.miyagi-softball.jp/calendar/
DESCRIPTION: 
CATEGORIES:県大会
X-FUNAMBOL-ALLDAY: 1
X-MICROSOFT-CDO-ALLDAYEVENT: TRUE

END:VEVENT
BEGIN:VEVENT
UID:42-37
LOCATION:
SUMMARY:県高校総体
DTSTAMP:20200718T000000
ORGANIZER;CN=miyagimsof:MAILTO:ojima72@hotmail.com
DTSTART;TZID=Asia/Tokyo:20200718T000000
DTEND;TZID=Asia/Tokyo:20200720T000000
URL;VALUE=URI:http://www.miyagi-softball.jp/calendar/
DESCRIPTION: 
CATEGORIES:県大会
X-FUNAMBOL-ALLDAY: 1
X-MICROSOFT-CDO-ALLDAYEVENT: TRUE

END:VEVENT
BEGIN:VEVENT
UID:40-36
LOCATION:
SUMMARY:【中止】マスターズ2020男子
DTSTAMP:20200613T000000
ORGANIZER;CN=miyagimsof:MAILTO:ojima72@hotmail.com
DTSTART;TZID=Asia/Tokyo:20200613T000000
DTEND;TZID=Asia/Tokyo:20200615T000000
URL;VALUE=URI:http://www.miyagi-softball.jp/calendar/
DESCRIPTION:大会要項等(Excel)大会要項等(PDF) 
CATEGORIES:県大会
X-FUNAMBOL-ALLDAY: 1
X-MICROSOFT-CDO-ALLDAYEVENT: TRUE

END:VEVENT
END:VCALENDAR